BEGIN:VCALENDAR
VERSION:2.0
PRODID:-//eventon.com NONSGML v1.0//EN
CALSCALE:GREGORIAN
METHOD:PUBLISH
BEGIN:VEVENT
UID:69e9ca33163be
DTSTAMP:20260423T072851Z
DTSTART:20231106T150000Z
DTEND:20231106T225000Z
LOCATION:
SUMMARY:Sitzung des Jugendforum Meerane
DESCRIPTION:Sitzung des Jugendforum Meerane\nhttps://demokratie-meerane.de/
 events/sitzung-des-jugendforum-meerane-copy-2/
URL:https://demokratie-meerane.de/events/sitzung-des-jugendforum-meerane-copy-2/
END:VEVENT
END:VCALENDAR